BEGIN:VCALENDAR
VERSION:2.0
CALSCALE:GREGORIAN
METHOD:PUBLISH
PRODID://AAFL//481024
BEGIN:VEVENT
DTSTAMP:20260423T122629
VTIMEZONE:America/New_York
DTSTART:20260921T120000Z
DTEND:20260925T000000Z
UID:481024
SUMMARY:IAF Fall Road Show!!
LOCATION:
DESCRIPTION:IAF Fall Road Show!!\n\n09/21/26 08:00 AM EST\n - 09/24/26 08:00 PM EST\Description:\nPlease save the date for our highly anticipated Fall Road Show! We will be announcing the full details and locations soon!
X-ALT-DESC;FMTTYPE=text/html:IAF Fall Road Show!!<br /><br />09/21/26 08:00 AM EST - 09/24/26 08:00 PM EST<br />Description:<br />Please save the date for our highly anticipated Fall Road Show! We will be announcing the full details and locations soon!
PRIORITY:3
TRANSP:TRANSPARENT
BEGIN:VALARM
TRIGGER:-PT5M
ACTION:DISPLAY
DESCRIPTION:Reminder
END:VALARM
END:VEVENT
END:VCALENDAR
